BEGIN:VCALENDAR
VERSION:2.0
PRODID:-//Kino Tuškanac//Filmski programi//HR
BEGIN:VEVENT
UID:c00df433518da03457e3b7dbb4f2a3a1@kinotuskanac.hr
DTSTAMP:20260424T011154Z
DTSTART:20190525T190000
DTEND:20190525T210000
SUMMARY:Afrička kraljica
LOCATION:Kino Tuškanac
DESCRIPTION:The African Queen, SAD, UK, 1951 R: John Huston
END:VEVENT
END:VCALENDAR