BEGIN:VCALENDAR
VERSION:2.0
PRODID:-//Kino Tuškanac//Filmski programi//HR
BEGIN:VEVENT
UID:65fa9a42574dcb809c2105b6850f9fbe@kinotuskanac.hr
DTSTAMP:20260421T234813Z
DTSTART:20190525T210000
DTEND:20190525T230000
SUMMARY:Čast Prizzijevih
LOCATION:Kino Tuškanac
DESCRIPTION:Prizzi's Honor, SAD, 1985 R: John Huston
END:VEVENT
END:VCALENDAR