BEGIN:VCALENDAR
VERSION:2.0
PRODID:-//Kino Tuškanac//Filmski programi//HR
BEGIN:VEVENT
UID:3968d1fc257f9e78417e4a47c700002f@kinotuskanac.hr
DTSTAMP:20260420T172053Z
DTSTART:20190527T190000
DTEND:20190527T210000
SUMMARY:Odsjaji u zlatnom oku
LOCATION:Kino Tuškanac
DESCRIPTION:Reflections in a Golden Eye, SAD, 1967 R: John Huston
END:VEVENT
END:VCALENDAR