BEGIN:VCALENDAR
VERSION:2.0
PRODID:-//Kino Tuškanac//Filmski programi//HR
BEGIN:VEVENT
UID:8dac8b1d424e18a1f3017a205da54c4d@kinotuskanac.hr
DTSTAMP:20260420T172053Z
DTSTART:20190527T210000
DTEND:20190527T230000
SUMMARY:Crvena značka za hrabrost
LOCATION:Kino Tuškanac
DESCRIPTION:The Red Badge of Courage, SAD, 1951 R: John Huston
END:VEVENT
END:VCALENDAR