BEGIN:VCALENDAR
VERSION:2.0
PRODID:-//Kino Tuškanac//Filmski programi//HR
BEGIN:VEVENT
UID:71bd6c7cf8db7952da63a57ccf516155@kinotuskanac.hr
DTSTAMP:20260420T172053Z
DTSTART:20190528T190000
DTEND:20190528T210000
SUMMARY:Otok Largo
LOCATION:Kino Tuškanac
DESCRIPTION:Key Largo, SAD, 1948 R: John Huston
END:VEVENT
END:VCALENDAR