BEGIN:VCALENDAR
VERSION:2.0
PRODID:-//Kino Tuškanac//Filmski programi//HR
BEGIN:VEVENT
UID:3a3ccf0e0ece0c40f948a70bc2d78956@kinotuskanac.hr
DTSTAMP:20260420T172110Z
DTSTART:20190528T210000
DTEND:20190528T230000
SUMMARY:Sudac za vješanje
LOCATION:Kino Tuškanac
DESCRIPTION:The Life and Times of Judge Roy Bean, SAD, 1972 R: John Huston
END:VEVENT
END:VCALENDAR