BEGIN:VCALENDAR
VERSION:2.0
PRODID:-//Kino Tuškanac//Filmski programi//HR
BEGIN:VEVENT
UID:9175939497a557c97f773d1b2e6914c4@kinotuskanac.hr
DTSTAMP:20260420T172032Z
DTSTART:20190529T210000
DTEND:20190529T230000
SUMMARY:Udri đavola
LOCATION:Kino Tuškanac
DESCRIPTION:Beat the Devil, UK, Italija, SAD, 1953 R: John Huston
END:VEVENT
END:VCALENDAR