BEGIN:VCALENDAR
VERSION:2.0
PRODID:-//Kino Tuškanac//Filmski programi//HR
BEGIN:VEVENT
UID:3bad5d7c450d1260fa616cdde2b369f7@kinotuskanac.hr
DTSTAMP:20260420T092000Z
DTSTART:20050427T190000
DTEND:20050427T210000
SUMMARY:Ne osvrći se
LOCATION:Kino Tuškanac
DESCRIPTION:Doko made mo ikou, 1999 R: Akihiko Shiota
END:VEVENT
END:VCALENDAR