BEGIN:VCALENDAR
VERSION:2.0
PRODID:-//Kino Tuškanac//Filmski programi//HR
BEGIN:VEVENT
UID:38d69c8cba033331c3158f70607ce4d9@kinotuskanac.hr
DTSTAMP:20260420T172032Z
DTSTART:20190530T190000
DTEND:20190530T210000
SUMMARY:U ovom našem životu
LOCATION:Kino Tuškanac
DESCRIPTION:In This Our Life, SAD, 1942 R: John Huston
END:VEVENT
END:VCALENDAR