BEGIN:VCALENDAR
VERSION:2.0
PRODID:-//Kino Tuškanac//Filmski programi//HR
BEGIN:VEVENT
UID:4f4d73c968856eda8d14e4e4428b1c24@kinotuskanac.hr
DTSTAMP:20260420T172110Z
DTSTART:20190530T210000
DTEND:20190530T230000
SUMMARY:Mudro srodstvo
LOCATION:Kino Tuškanac
DESCRIPTION:Wise Blood, SAD, 1979 R: John Huston
END:VEVENT
END:VCALENDAR