BEGIN:VCALENDAR
VERSION:2.0
PRODID:-//Kino Tuškanac//Filmski programi//HR
BEGIN:VEVENT
UID:b7cec9b0b80be25edb911dbab1377f5e@kinotuskanac.hr
DTSTAMP:20260420T172027Z
DTSTART:20190601T211500
DTEND:20190601T231500
SUMMARY:Mrtvi
LOCATION:Kino Tuškanac
DESCRIPTION:The Dead, UK, Irska, Zapadna Njemačka, SAD, 1987 R: John Huston
END:VEVENT
END:VCALENDAR