BEGIN:VCALENDAR
VERSION:2.0
PRODID:-//Kino Tuškanac//Filmski programi//HR
BEGIN:VEVENT
UID:cffc949ba96c5f4e3a63e975d7a6e68d@kinotuskanac.hr
DTSTAMP:20260421T230339Z
DTSTART:20190624T210000
DTEND:20190624T230000
SUMMARY:Sedam godina vjernosti
LOCATION:Kino Tuškanac
DESCRIPTION:The Seven Year Itch, SAD, 1955 | Mjesto prikazivanja filma: Kulturno informativni centar KIC (Preradovićeva ul. 5) R: Billy Wilder
END:VEVENT
END:VCALENDAR