BEGIN:VCALENDAR
VERSION:2.0
PRODID:-//Kino Tuškanac//Filmski programi//HR
BEGIN:VEVENT
UID:72975ec82360a9034ded17cb1e919bca@kinotuskanac.hr
DTSTAMP:20260420T161628Z
DTSTART:20190626T190000
DTEND:20190626T210000
SUMMARY:Sabrina
LOCATION:Kino Tuškanac
DESCRIPTION:SAD, 1954 R: Billy Wilder
END:VEVENT
END:VCALENDAR