BEGIN:VCALENDAR
VERSION:2.0
PRODID:-//Kino Tuškanac//Filmski programi//HR
BEGIN:VEVENT
UID:2492ea47b7d8cad6e921838280f61f2e@kinotuskanac.hr
DTSTAMP:20260420T161614Z
DTSTART:20190628T210000
DTEND:20190628T230000
SUMMARY:Dvostruka obmana
LOCATION:Kino Tuškanac
DESCRIPTION:Double Indemnity, SAD, 1944 R: Billy Wilder
END:VEVENT
END:VCALENDAR