BEGIN:VCALENDAR
VERSION:2.0
PRODID:-//Kino Tuškanac//Filmski programi//HR
BEGIN:VEVENT
UID:3e4f7b953da8ae430ed864c91f7a557c@kinotuskanac.hr
DTSTAMP:20260426T032314Z
DTSTART:20050507T190000
DTEND:20050507T210000
SUMMARY:Čovjek s rikšom
LOCATION:Kino Tuškanac
DESCRIPTION:Muhomatsu no issho, 1958 R: Hiroshi Inagaki
END:VEVENT
END:VCALENDAR