BEGIN:VCALENDAR
VERSION:2.0
PRODID:-//Kino Tuškanac//Filmski programi//HR
BEGIN:VEVENT
UID:6e0e11d55abe15ff8fc77c2d478ccb97@kinotuskanac.hr
DTSTAMP:20260420T200114Z
DTSTART:20190731T210000
DTEND:20190731T230000
SUMMARY:Osmijesi ljetne noći
LOCATION:Kino Tuškanac
DESCRIPTION:Sommarnattens leende, Švedska, 1955 R: Ingmar Bergman
END:VEVENT
END:VCALENDAR