BEGIN:VCALENDAR
VERSION:2.0
PRODID:-//Kino Tuškanac//Filmski programi//HR
BEGIN:VEVENT
UID:c578e17229d0dbe1d24c81d5e4d56174@kinotuskanac.hr
DTSTAMP:20260421T182421Z
DTSTART:20190714T210000
DTEND:20190714T230000
SUMMARY:Pričesnici
LOCATION:Kino Tuškanac
DESCRIPTION:Nattvardsgästerna, Švedska, 1962 R: Ingmar Bergman
END:VEVENT
END:VCALENDAR