BEGIN:VCALENDAR
VERSION:2.0
PRODID:-//Kino Tuškanac//Filmski programi//HR
BEGIN:VEVENT
UID:24b6bfe8319f2343426f117b10aa054d@kinotuskanac.hr
DTSTAMP:20260420T170008Z
DTSTART:20190715T210000
DTEND:20190715T230000
SUMMARY:Veselje
LOCATION:Kino Tuškanac
DESCRIPTION:Till glädje, Švedska, 1950 R: Ingmar Bergman
END:VEVENT
END:VCALENDAR