BEGIN:VCALENDAR
VERSION:2.0
PRODID:-//Kino Tuškanac//Filmski programi//HR
BEGIN:VEVENT
UID:88b9753aaa0df7c77310da082ad2de75@kinotuskanac.hr
DTSTAMP:20260421T093215Z
DTSTART:20190718T210000
DTEND:20190718T230000
SUMMARY:Krici i šaputanja
LOCATION:Kino Tuškanac
DESCRIPTION:Viskningar och rop, Švedska, 1972 | Mjesto prikazivanja filma: Kino Forum (SD Stjepan Radić, Jarunska ul. 2) R: Ingmar Bergman
END:VEVENT
END:VCALENDAR