BEGIN:VCALENDAR
VERSION:2.0
PRODID:-//Kino Tuškanac//Filmski programi//HR
BEGIN:VEVENT
UID:50d541074a57ec0c75951218dcb76360@kinotuskanac.hr
DTSTAMP:20260421T051042Z
DTSTART:20190729T210000
DTEND:20190729T230000
SUMMARY:Đavolje oko
LOCATION:Kino Tuškanac
DESCRIPTION:Djävulens öga, Švedska, 1960 R: Ingmar Bergman
END:VEVENT
END:VCALENDAR