BEGIN:VCALENDAR
VERSION:2.0
PRODID:-//Kino Tuškanac//Filmski programi//HR
BEGIN:VEVENT
UID:6b028efaadbfcddbd7f0ae955c84349f@kinotuskanac.hr
DTSTAMP:20260420T161628Z
DTSTART:20190702T190000
DTEND:20190702T210000
SUMMARY:Međunarodna afera
LOCATION:Kino Tuškanac
DESCRIPTION:A Foreign Affair, SAD, 1948 R: Billy Wilder
END:VEVENT
END:VCALENDAR