BEGIN:VCALENDAR
VERSION:2.0
PRODID:-//Kino Tuškanac//Filmski programi//HR
BEGIN:VEVENT
UID:bb5e29b702fac8cbbe2d23886eea649a@kinotuskanac.hr
DTSTAMP:20260421T093530Z
DTSTART:20190904T211500
DTEND:20190904T231500
SUMMARY:Straightova priča
LOCATION:Kino Tuškanac
DESCRIPTION:The Straight Story, SAD, UK, Francuska, 1999 | Mjesto prikazivanja filma: Centar za kulturu Histrionski dom (Ilica 90) R: David Lynch
END:VEVENT
END:VCALENDAR