BEGIN:VCALENDAR
VERSION:2.0
PRODID:-//Kino Tuškanac//Filmski programi//HR
BEGIN:VEVENT
UID:813852b78d7f9bc6f2b93088f8225808@kinotuskanac.hr
DTSTAMP:20260420T205244Z
DTSTART:20190908T190000
DTEND:20190908T210000
SUMMARY:Unutarnje carstvo
LOCATION:Kino Tuškanac
DESCRIPTION:Inland Empire, Francuska, Poljska, SAD, 2006 | Mjesto prikazivanja filma: Centar za kulturu Histrionski dom (Ilica 90) R: David Lynch
END:VEVENT
END:VCALENDAR