BEGIN:VCALENDAR
VERSION:2.0
PRODID:-//Kino Tuškanac//Filmski programi//HR
BEGIN:VEVENT
UID:499528bdc6f8495d5b963eb319298dd8@kinotuskanac.hr
DTSTAMP:20260421T154136Z
DTSTART:20190910T190000
DTEND:20190910T210000
SUMMARY:Zli mirno spavaju
LOCATION:Kino Tuškanac
DESCRIPTION:Warui yatsu hodo yoku nemuru, Japan, 1960 R: Akira Kurosawa
END:VEVENT
END:VCALENDAR