BEGIN:VCALENDAR
VERSION:2.0
PRODID:-//Kino Tuškanac//Filmski programi//HR
BEGIN:VEVENT
UID:9102f602a144a2cdbf3ed0ccf9b00bc4@kinotuskanac.hr
DTSTAMP:20260423T143823Z
DTSTART:20190911T190000
DTEND:20190911T210000
SUMMARY:Idiot
LOCATION:Kino Tuškanac
DESCRIPTION:Hakuchi, Japan, 1951 R: Akira Kurosawa
END:VEVENT
END:VCALENDAR