BEGIN:VCALENDAR
VERSION:2.0
PRODID:-//Kino Tuškanac//Filmski programi//HR
BEGIN:VEVENT
UID:0dc7adf2fe80a84ca80a2869a67efc38@kinotuskanac.hr
DTSTAMP:20260422T011526Z
DTSTART:20190914T190000
DTEND:20190914T210000
SUMMARY:Sedam samuraja
LOCATION:Kino Tuškanac
DESCRIPTION:Shichinin no samurai, Japan, 1954 R: Akira Kurosawa
END:VEVENT
END:VCALENDAR