BEGIN:VCALENDAR
VERSION:2.0
PRODID:-//Kino Tuškanac//Filmski programi//HR
BEGIN:VEVENT
UID:60bf67c9a95c45b5b1c368681faccfd4@kinotuskanac.hr
DTSTAMP:20260421T182730Z
DTSTART:20190915T190000
DTEND:20190915T210000
SUMMARY:Riđobradi
LOCATION:Kino Tuškanac
DESCRIPTION:Akahige, Japan, 1965 R: Akira Kurosawa
END:VEVENT
END:VCALENDAR