BEGIN:VCALENDAR
VERSION:2.0
PRODID:-//Kino Tuškanac//Filmski programi//HR
BEGIN:VEVENT
UID:5efa2c4f0a297e97c00ab2ed76ae925d@kinotuskanac.hr
DTSTAMP:20260419T171901Z
DTSTART:20190919T190000
DTEND:20190919T210000
SUMMARY:Bilješke jednoga živog bića
LOCATION:Kino Tuškanac
DESCRIPTION:Ikimono no kiroku, Japan, 1955 R: Akira Kurosawa
END:VEVENT
END:VCALENDAR