BEGIN:VCALENDAR
VERSION:2.0
PRODID:-//Kino Tuškanac//Filmski programi//HR
BEGIN:VEVENT
UID:5e0b2120065d99e64457cc8877987c06@kinotuskanac.hr
DTSTAMP:20260426T031857Z
DTSTART:20050514T170000
DTEND:20050514T190000
SUMMARY:Čovjek s rikšom
LOCATION:Kino Tuškanac
DESCRIPTION:Muhomatsu no issho, 1958 R: Hiroshi Inagaki
END:VEVENT
END:VCALENDAR