BEGIN:VCALENDAR
VERSION:2.0
PRODID:-//Kino Tuškanac//Filmski programi//HR
BEGIN:VEVENT
UID:f6464a7fc8716b86675c7f3c14eab9bb@kinotuskanac.hr
DTSTAMP:20260423T215928Z
DTSTART:20190920T210000
DTEND:20190920T230000
SUMMARY:Skrivena tvrđava
LOCATION:Kino Tuškanac
DESCRIPTION:Kakushi-toride no san-akunin, Japan, 1958 R: Akira Kurosawa
END:VEVENT
END:VCALENDAR