BEGIN:VCALENDAR
VERSION:2.0
PRODID:-//Kino Tuškanac//Filmski programi//HR
BEGIN:VEVENT
UID:7feec21866945b9cdd1de6b73592bcd1@kinotuskanac.hr
DTSTAMP:20260419T225044Z
DTSTART:20190922T190000
DTEND:20190922T210000
SUMMARY:Kagemusha
LOCATION:Kino Tuškanac
DESCRIPTION:Japan, SAD, 1980 R: Akira Kurosawa
END:VEVENT
END:VCALENDAR