BEGIN:VCALENDAR
VERSION:2.0
PRODID:-//Kino Tuškanac//Filmski programi//HR
BEGIN:VEVENT
UID:e645078615021343437122ad8801fe6c@kinotuskanac.hr
DTSTAMP:20260423T175532Z
DTSTART:20050519T190000
DTEND:20050519T210000
SUMMARY:Pobuna
LOCATION:Kino Tuškanac
DESCRIPTION:Joi-uchi, 1967 R: Masaki Kobayashi
END:VEVENT
END:VCALENDAR