BEGIN:VCALENDAR
VERSION:2.0
PRODID:-//Kino Tuškanac//Filmski programi//HR
BEGIN:VEVENT
UID:d47f6c32ef4bb5306a76f10991fb9926@kinotuskanac.hr
DTSTAMP:20260423T045134Z
DTSTART:20191009T210000
DTEND:20191009T230000
SUMMARY:Manon
LOCATION:Kino Tuškanac
DESCRIPTION:Francuska, 1949 R: Henri-Georges Clouzot
END:VEVENT
END:VCALENDAR