BEGIN:VCALENDAR
VERSION:2.0
PRODID:-//Kino Tuškanac//Filmski programi//HR
BEGIN:VEVENT
UID:04b66fb7c3d8d1b1887beb158380ef06@kinotuskanac.hr
DTSTAMP:20260420T115103Z
DTSTART:20191010T190000
DTEND:20191010T210000
SUMMARY:Gavran
LOCATION:Kino Tuškanac
DESCRIPTION:Le corbeau, Francuska, 1943 R: Henri-Georges Clouzot
END:VEVENT
END:VCALENDAR