BEGIN:VCALENDAR
VERSION:2.0
PRODID:-//Kino Tuškanac//Filmski programi//HR
BEGIN:VEVENT
UID:e528a6a54fee158db85a2e16d2cc916a@kinotuskanac.hr
DTSTAMP:20260419T225841Z
DTSTART:20191011T190000
DTEND:20191011T210000
SUMMARY:Teroristkinja
LOCATION:Kino Tuškanac
DESCRIPTION:Teroristka, Češka, 2019 R: Radek Bajgar
END:VEVENT
END:VCALENDAR