BEGIN:VCALENDAR
VERSION:2.0
PRODID:-//Kino Tuškanac//Filmski programi//HR
BEGIN:VEVENT
UID:33e63fc1abcfbfd8a60c886d28e315d8@kinotuskanac.hr
DTSTAMP:20260419T225952Z
DTSTART:20191012T210000
DTEND:20191012T230000
SUMMARY:Vikendica na prodaju
LOCATION:Kino Tuškanac
DESCRIPTION:Chata na prodej, Češka, 2018 R: Tomáš Pavlíček
END:VEVENT
END:VCALENDAR