BEGIN:VCALENDAR
VERSION:2.0
PRODID:-//Kino Tuškanac//Filmski programi//HR
BEGIN:VEVENT
UID:eca37cb978c78e18846e8e971a57858a@kinotuskanac.hr
DTSTAMP:20260423T144920Z
DTSTART:20191013T190000
DTEND:20191013T210000
SUMMARY:Dukla 61
LOCATION:Kino Tuškanac
DESCRIPTION:Češka, 2018 R: David Ondříček
END:VEVENT
END:VCALENDAR