BEGIN:VCALENDAR
VERSION:2.0
PRODID:-//Kino Tuškanac//Filmski programi//HR
BEGIN:VEVENT
UID:1adeb730963e044568eb1a8040dfa2a3@kinotuskanac.hr
DTSTAMP:20260423T175425Z
DTSTART:20050524T190000
DTEND:20050524T210000
SUMMARY:Pobuna
LOCATION:Kino Tuškanac
DESCRIPTION:Joi-uchi, 1967 R: Masaki Kobayashi
END:VEVENT
END:VCALENDAR