BEGIN:VCALENDAR
VERSION:2.0
PRODID:-//Kino Tuškanac//Filmski programi//HR
BEGIN:VEVENT
UID:c7be8b5c55a41462bc161a3f27341143@kinotuskanac.hr
DTSTAMP:20260419T174101Z
DTSTART:20191024T190000
DTEND:20191024T210000
SUMMARY:Heidlerov krug
LOCATION:Kino Tuškanac
DESCRIPTION:BiH, 2013 R: Nedžad Begović
END:VEVENT
END:VCALENDAR