BEGIN:VCALENDAR
VERSION:2.0
PRODID:-//Kino Tuškanac//Filmski programi//HR
BEGIN:VEVENT
UID:44ef225a70de2d50a35dcdf4ac316183@kinotuskanac.hr
DTSTAMP:20260421T133442Z
DTSTART:20191028T190000
DTEND:20191028T210000
SUMMARY:Prije kiše
LOCATION:Kino Tuškanac
DESCRIPTION:Before the Rain, Republika Makedonija, Francuska, UK, 1994 R: Milčo Mančevski
END:VEVENT
END:VCALENDAR