BEGIN:VCALENDAR
VERSION:2.0
PRODID:-//Kino Tuškanac//Filmski programi//HR
BEGIN:VEVENT
UID:0bba9a39f2b38ef49fc8922f99846d12@kinotuskanac.hr
DTSTAMP:20260421T133442Z
DTSTART:20191029T190000
DTEND:20191029T210000
SUMMARY:Prašina
LOCATION:Kino Tuškanac
DESCRIPTION:Dust, Republika Makedonija, Italija, Njemačka, UK, 2001 R: Milčo Mančevski
END:VEVENT
END:VCALENDAR