BEGIN:VCALENDAR
VERSION:2.0
PRODID:-//Kino Tuškanac//Filmski programi//HR
BEGIN:VEVENT
UID:d9bd4b686051532634e3e8f04c6b58a1@kinotuskanac.hr
DTSTAMP:20260421T133844Z
DTSTART:20191029T211500
DTEND:20191029T231500
SUMMARY:Majke
LOCATION:Kino Tuškanac
DESCRIPTION:Majki, Republika Makedonija, Francuska, Bugarska, 2010 R: Milčo Mančevski
END:VEVENT
END:VCALENDAR