BEGIN:VCALENDAR
VERSION:2.0
PRODID:-//Kino Tuškanac//Filmski programi//HR
BEGIN:VEVENT
UID:45d35e2319f28e2daec01bc33b448265@kinotuskanac.hr
DTSTAMP:20260419T150057Z
DTSTART:20191024T190000
DTEND:20191024T210000
SUMMARY:Sve jedno drugo pojede
LOCATION:Kino Tuškanac
DESCRIPTION:Jugoslavija, 1971 R: Rajko Grlić
END:VEVENT
END:VCALENDAR