BEGIN:VCALENDAR
VERSION:2.0
PRODID:-//Kino Tuškanac//Filmski programi//HR
BEGIN:VEVENT
UID:b65d4592afd36f0b5862465d9282f5a9@kinotuskanac.hr
DTSTAMP:20260419T154517Z
DTSTART:20191102T211500
DTEND:20191102T231500
SUMMARY:Sveta krv
LOCATION:Kino Tuškanac
DESCRIPTION:Santa Sangre, Meksiko, 1989 R: Alejandro Jodorowsky
END:VEVENT
END:VCALENDAR