BEGIN:VCALENDAR
VERSION:2.0
PRODID:-//Kino Tuškanac//Filmski programi//HR
BEGIN:VEVENT
UID:62d5fc630386fdb50bfe6b8fe46d29c2@kinotuskanac.hr
DTSTAMP:20260419T141814Z
DTSTART:20191118T190000
DTEND:20191118T210000
SUMMARY:Tokijska priča
LOCATION:Kino Tuškanac
DESCRIPTION:Tokyo monogatari, Japan, 1953 R: Yasujirō Ozu
END:VEVENT
END:VCALENDAR