BEGIN:VCALENDAR
VERSION:2.0
PRODID:-//Kino Tuškanac//Filmski programi//HR
BEGIN:VEVENT
UID:0094f4a7363770c8e8017302baafa962@kinotuskanac.hr
DTSTAMP:20260419T142104Z
DTSTART:20191120T190000
DTEND:20191120T210000
SUMMARY:Jesenje poslijepodne
LOCATION:Kino Tuškanac
DESCRIPTION:Sanma no aji, Japan, 1962 R: Yasujirō Ozu
END:VEVENT
END:VCALENDAR