BEGIN:VCALENDAR
VERSION:2.0
PRODID:-//Kino Tuškanac//Filmski programi//HR
BEGIN:VEVENT
UID:b69fc9850e08c250e289f6bdbd8e0cde@kinotuskanac.hr
DTSTAMP:20260421T133658Z
DTSTART:20191120T210000
DTEND:20191120T230000
SUMMARY:Dobar dan
LOCATION:Kino Tuškanac
DESCRIPTION:Ohayô, Japan, 1959 R: Yasujirō Ozu
END:VEVENT
END:VCALENDAR