BEGIN:VCALENDAR
VERSION:2.0
PRODID:-//Kino Tuškanac//Filmski programi//HR
BEGIN:VEVENT
UID:2e7f13108c9cf1687e180a8c85cbb5a8@kinotuskanac.hr
DTSTAMP:20260421T134331Z
DTSTART:20191121T190000
DTEND:20191121T210000
SUMMARY:Plutajuće trave
LOCATION:Kino Tuškanac
DESCRIPTION:Ukikusa, Japan, 1959 R: Yasujirō Ozu
END:VEVENT
END:VCALENDAR