BEGIN:VCALENDAR
VERSION:2.0
PRODID:-//Kino Tuškanac//Filmski programi//HR
BEGIN:VEVENT
UID:63803df8bdcb972407028ee66fe4448a@kinotuskanac.hr
DTSTAMP:20260423T111247Z
DTSTART:20050607T210000
DTEND:20050607T230000
SUMMARY:Prezir
LOCATION:Kino Tuškanac
DESCRIPTION:Le mépris, Francuska, Italija, 1963 R: Jean-Luc Godard
END:VEVENT
END:VCALENDAR