BEGIN:VCALENDAR
VERSION:2.0
PRODID:-//Kino Tuškanac//Filmski programi//HR
BEGIN:VEVENT
UID:93894d955f3d3018bea8f8b3ce4cf35c@kinotuskanac.hr
DTSTAMP:20260421T154103Z
DTSTART:20191127T190000
DTEND:20191127T210000
SUMMARY:Duh košnice
LOCATION:Kino Tuškanac
DESCRIPTION:El espíritu de la colmena, Španjolska, 1973 R: Víctor Erice
END:VEVENT
END:VCALENDAR